BEGIN:VCALENDAR
VERSION:2.0
PRODID:-//AISLeC - ECPv6.15.17.1//NONSGML v1.0//EN
CALSCALE:GREGORIAN
METHOD:PUBLISH
X-WR-CALNAME:AISLeC
X-ORIGINAL-URL:https://aislec.it
X-WR-CALDESC:Eventi per AISLeC
REFRESH-INTERVAL;VALUE=DURATION:PT1H
X-Robots-Tag:noindex
X-PUBLISHED-TTL:PT1H
BEGIN:VTIMEZONE
TZID:Europe/Paris
BEGIN:DAYLIGHT
TZOFFSETFROM:+0100
TZOFFSETTO:+0200
TZNAME:CEST
DTSTART:20220327T010000
END:DAYLIGHT
BEGIN:STANDARD
TZOFFSETFROM:+0200
TZOFFSETTO:+0100
TZNAME:CET
DTSTART:20221030T010000
END:STANDARD
BEGIN:DAYLIGHT
TZOFFSETFROM:+0100
TZOFFSETTO:+0200
TZNAME:CEST
DTSTART:20230326T010000
END:DAYLIGHT
BEGIN:STANDARD
TZOFFSETFROM:+0200
TZOFFSETTO:+0100
TZNAME:CET
DTSTART:20231029T010000
END:STANDARD
BEGIN:DAYLIGHT
TZOFFSETFROM:+0100
TZOFFSETTO:+0200
TZNAME:CEST
DTSTART:20240331T010000
END:DAYLIGHT
BEGIN:STANDARD
TZOFFSETFROM:+0200
TZOFFSETTO:+0100
TZNAME:CET
DTSTART:20241027T010000
END:STANDARD
END:VTIMEZONE
BEGIN:VEVENT
DTSTART;TZID=Europe/Paris:20230915T080000
DTEND;TZID=Europe/Paris:20230915T170000
DTSTAMP:20260422T193524
CREATED:20241217T073425Z
LAST-MODIFIED:20241217T073425Z
UID:3179-1694764800-1694797200@aislec.it
SUMMARY:EPUAP 2023 13 – INNOVATIONS IN PRESSURE ULCER PREVENTION AND TREATMENT
DESCRIPTION:15 September 2023\, Leeds\, United Kingdom \nEPUAP 2023 Chair: Susanne Coleman\, University of Leeds\nVenue: Royal Armouries \nLa presentazione degli abstract è aperta fino al 16 aprile e il programma preliminare è già disponibile;\ntutte le informazioni sono disponibili sul sito web della conferenza:\nwww.epuap2023.org
URL:https://aislec.it/event/epuap-2023-13-innovations-in-pressure-ulcer-prevention-and-treatment/
CATEGORIES:Altri eventi patrocinati
ATTACH;FMTTYPE=image/png:https://aislec.it/wp-content/uploads/2024/12/Banner-1__ResizedImageWzUwMCw5Ml0.png
END:VEVENT
BEGIN:VEVENT
DTSTART;TZID=Europe/Paris:20230921T080000
DTEND;TZID=Europe/Paris:20230923T170000
DTSTAMP:20260422T193524
CREATED:20241217T073317Z
LAST-MODIFIED:20241217T073317Z
UID:3177-1695283200-1695488400@aislec.it
SUMMARY:XXXVI CONGRESSO NAZIONALE AIP - Podologia riabilitativa 
DESCRIPTION:Podologia riabilitativa \n  \nPortonovo (AN)\, dal 21 al 23/09/2023 \n  \nPatrocinato AISLeC \n\nSAVE THE DATE
URL:https://aislec.it/event/xxxvi-congresso-nazionale-aip-podologia-riabilitativa/
CATEGORIES:Altri eventi patrocinati
END:VEVENT
BEGIN:VEVENT
DTSTART;TZID=Europe/Paris:20230928T080000
DTEND;TZID=Europe/Paris:20230930T170000
DTSTAMP:20260422T193524
CREATED:20241217T073244Z
LAST-MODIFIED:20241217T073244Z
UID:3174-1695888000-1696093200@aislec.it
SUMMARY:2° CONGRESSO NAZIONALE WULNOTECH
DESCRIPTION:High Training in Woundcare & Healthcare \nRoma\, 28-29-30 settembre 2023 \nPatrocinato AISLeC \n  \nPROGRAMMA
URL:https://aislec.it/event/2-congresso-nazionale-wulnotech/
CATEGORIES:Altri eventi patrocinati
END:VEVENT
BEGIN:VEVENT
DTSTART;TZID=Europe/Paris:20230930T080000
DTEND;TZID=Europe/Paris:20230930T170000
DTSTAMP:20260422T193524
CREATED:20241217T072541Z
LAST-MODIFIED:20241217T072541Z
UID:3170-1696060800-1696093200@aislec.it
SUMMARY:CONVEGNO INTERSOCIETARIO Integrare le competenze infermieristiche nella gestione delle Infezioni Correlate all'Assistenza: qual è il valore aggiunto?
DESCRIPTION:Roma\, 30/09/2023 \n  \nCon il Patrocinio di FNOPI \n  \nCONSULTA IL PROGRAMMA
URL:https://aislec.it/event/convegno-intersocietario-integrare-le-competenze-infermieristiche-nella-gestione-delle-infezioni-correlate-allassistenza-qual-e-il-valore-aggiunto/
CATEGORIES:Altri eventi patrocinati
ATTACH;FMTTYPE=image/png:https://aislec.it/wp-content/uploads/2024/12/CONVEGNO-INTERSOCIETARIO.png
END:VEVENT
END:VCALENDAR