BEGIN:VCALENDAR
VERSION:2.0
PRODID:-//AISLeC - ECPv6.15.17.1//NONSGML v1.0//EN
CALSCALE:GREGORIAN
METHOD:PUBLISH
X-WR-CALNAME:AISLeC
X-ORIGINAL-URL:https://aislec.it
X-WR-CALDESC:Eventi per AISLeC
REFRESH-INTERVAL;VALUE=DURATION:PT1H
X-Robots-Tag:noindex
X-PUBLISHED-TTL:PT1H
BEGIN:VTIMEZONE
TZID:Europe/Paris
BEGIN:DAYLIGHT
TZOFFSETFROM:+0100
TZOFFSETTO:+0200
TZNAME:CEST
DTSTART:20240331T010000
END:DAYLIGHT
BEGIN:STANDARD
TZOFFSETFROM:+0200
TZOFFSETTO:+0100
TZNAME:CET
DTSTART:20241027T010000
END:STANDARD
BEGIN:DAYLIGHT
TZOFFSETFROM:+0100
TZOFFSETTO:+0200
TZNAME:CEST
DTSTART:20250330T010000
END:DAYLIGHT
BEGIN:STANDARD
TZOFFSETFROM:+0200
TZOFFSETTO:+0100
TZNAME:CET
DTSTART:20251026T010000
END:STANDARD
BEGIN:DAYLIGHT
TZOFFSETFROM:+0100
TZOFFSETTO:+0200
TZNAME:CEST
DTSTART:20260329T010000
END:DAYLIGHT
BEGIN:STANDARD
TZOFFSETFROM:+0200
TZOFFSETTO:+0100
TZNAME:CET
DTSTART:20261025T010000
END:STANDARD
END:VTIMEZONE
BEGIN:VEVENT
DTSTART;TZID=Europe/Paris:20250524T080000
DTEND;TZID=Europe/Paris:20250524T173000
DTSTAMP:20260421T113246
CREATED:20250204T135515Z
LAST-MODIFIED:20250204T140729Z
UID:5343-1748073600-1748107800@aislec.it
SUMMARY:Il ruolo dell’infiammazione reumatica e vascolare nella compromissione della biomeccanica dell’arto inferiore
DESCRIPTION:Napoli\, 24 maggio 2025 \nEvento patrocinato AISLeC
URL:https://aislec.it/event/il-ruolo-dellinfiammazione-reumatica-e-vascolare-nella-compromissione-della-biomeccanica-dellarto-inferiore/
CATEGORIES:Agenda,Altri eventi patrocinati
END:VEVENT
END:VCALENDAR