BEGIN:VCALENDAR
VERSION:2.0
PRODID:-//AISLeC - ECPv6.15.17.1//NONSGML v1.0//EN
CALSCALE:GREGORIAN
METHOD:PUBLISH
X-ORIGINAL-URL:https://aislec.it
X-WR-CALDESC:Eventi per AISLeC
REFRESH-INTERVAL;VALUE=DURATION:PT1H
X-Robots-Tag:noindex
X-PUBLISHED-TTL:PT1H
BEGIN:VTIMEZONE
TZID:Europe/Paris
BEGIN:DAYLIGHT
TZOFFSETFROM:+0100
TZOFFSETTO:+0200
TZNAME:CEST
DTSTART:20210328T010000
END:DAYLIGHT
BEGIN:STANDARD
TZOFFSETFROM:+0200
TZOFFSETTO:+0100
TZNAME:CET
DTSTART:20211031T010000
END:STANDARD
BEGIN:DAYLIGHT
TZOFFSETFROM:+0100
TZOFFSETTO:+0200
TZNAME:CEST
DTSTART:20220327T010000
END:DAYLIGHT
BEGIN:STANDARD
TZOFFSETFROM:+0200
TZOFFSETTO:+0100
TZNAME:CET
DTSTART:20221030T010000
END:STANDARD
BEGIN:DAYLIGHT
TZOFFSETFROM:+0100
TZOFFSETTO:+0200
TZNAME:CEST
DTSTART:20230326T010000
END:DAYLIGHT
BEGIN:STANDARD
TZOFFSETFROM:+0200
TZOFFSETTO:+0100
TZNAME:CET
DTSTART:20231029T010000
END:STANDARD
BEGIN:DAYLIGHT
TZOFFSETFROM:+0100
TZOFFSETTO:+0200
TZNAME:CEST
DTSTART:20240331T010000
END:DAYLIGHT
BEGIN:STANDARD
TZOFFSETFROM:+0200
TZOFFSETTO:+0100
TZNAME:CET
DTSTART:20241027T010000
END:STANDARD
BEGIN:DAYLIGHT
TZOFFSETFROM:+0100
TZOFFSETTO:+0200
TZNAME:CEST
DTSTART:20250330T010000
END:DAYLIGHT
BEGIN:STANDARD
TZOFFSETFROM:+0200
TZOFFSETTO:+0100
TZNAME:CET
DTSTART:20251026T010000
END:STANDARD
END:VTIMEZONE
BEGIN:VEVENT
DTSTART;TZID=Europe/Paris:20220412T080000
DTEND;TZID=Europe/Paris:20220412T170000
DTSTAMP:20260424T022155
CREATED:20241217T074627Z
LAST-MODIFIED:20241217T074627Z
UID:3214-1649750400-1649782800@aislec.it
SUMMARY:WEBINAR: LA TERAPIA COMPRESSIVA NELLA GESTIONE DELLE FERITE
DESCRIPTION:Martedì\, 12 aprile 2022\ndalle ore 16:30 – alle ore 19.00 \nL’Associazione Infermieristica per lo Studio delle Lesioni Cutanee (AISLeC)\, l’International Compression Club (ICC) e l’European Wound Management Association (EWMA) sono lieti di invitare i professionisti del processo di cura ad un webinar introduttivo gratuito di 2\,5 ore sulle raccomandazioni\, le linee guida e gli aspetti pratici d’uso della terapia compressiva nella gestione delle ferite dell’arto inferiore. \nIl webinar si tiene nel quadro della campagna sulla terapia compressiva avviata da EWMA in collaborazione con AISLeC\, ICC e altre società che si occupano di gestione delle ferite in tutta Europa. \n  \nMAGGIORI INFORMAZIONI: https://ewma.org/what-we-do/compression-therapy/events/webinar-in-italiano
URL:https://aislec.it/event/webinar-la-terapia-compressiva-nella-gestione-delle-ferite/
CATEGORIES:Altri eventi patrocinati
ATTACH;FMTTYPE=image/jpeg:https://aislec.it/wp-content/uploads/2024/12/Immagineallegata-1__ResizedImageWzYwMCwyODhd.jpg
END:VEVENT
BEGIN:VEVENT
DTSTART;TZID=Europe/Paris:20220523T080000
DTEND;TZID=Europe/Paris:20220525T170000
DTSTAMP:20260424T022155
CREATED:20241217T074718Z
LAST-MODIFIED:20241217T074718Z
UID:3217-1653292800-1653498000@aislec.it
SUMMARY:EWMA-JOURNÉES CICATRISATIONS
DESCRIPTION:Parigi\, dal 23 al 25 Maggio 2022\nMAGGIORI INFORMAZIONI: https://ewma.org/ewma-conferences/2022 \n 
URL:https://aislec.it/event/ewma-journees-cicatrisations/
CATEGORIES:Altri eventi patrocinati
ATTACH;FMTTYPE=image/png:https://aislec.it/wp-content/uploads/2024/12/EWMA2022-May23-25-webbanner-1150x150px__ResizedImageWzYwMCw3OF0.png
END:VEVENT
BEGIN:VEVENT
DTSTART;TZID=Europe/Paris:20230201T080000
DTEND;TZID=Europe/Paris:20230201T170000
DTSTAMP:20260424T022155
CREATED:20241217T074533Z
LAST-MODIFIED:20241217T074533Z
UID:3211-1675238400-1675270800@aislec.it
SUMMARY:Il Servizio Sanitario Nazionale compie 40 anni
DESCRIPTION:AISLeC condivide l’iniziativa della Fondazione GIMBE \, che ha realizzato un logo celebrativo per richiamare \nl’attenzione di tutti sul rischio di una sanità privata per i ricchi e una pubblica residuale per i meno abbienti
URL:https://aislec.it/event/il-servizio-sanitario-nazionale-compie-40-anni/
CATEGORIES:Altri eventi patrocinati
ATTACH;FMTTYPE=image/jpeg:https://aislec.it/wp-content/uploads/2024/12/Logo-SSN40-1778x780-1.jpg
END:VEVENT
BEGIN:VEVENT
DTSTART;TZID=Europe/Paris:20230223T080000
DTEND;TZID=Europe/Paris:20230225T170000
DTSTAMP:20260424T022155
CREATED:20241217T074447Z
LAST-MODIFIED:20241217T074447Z
UID:3207-1677139200-1677344400@aislec.it
SUMMARY:La cura delle ferite
DESCRIPTION:Reggio Emilia \n23-25 Febbraio 2023 \nPatrocinato AISLeC \nConsulta il programma
URL:https://aislec.it/event/la-cura-delle-ferite/
CATEGORIES:Altri eventi patrocinati
ATTACH;FMTTYPE=image/png:https://aislec.it/wp-content/uploads/2024/12/Immagine1-v4__ResizedImageWzMwMCwxNDNd.png
END:VEVENT
BEGIN:VEVENT
DTSTART;TZID=Europe/Paris:20230320T080000
DTEND;TZID=Europe/Paris:20230322T170000
DTSTAMP:20260424T022155
CREATED:20241217T074253Z
LAST-MODIFIED:20241217T074253Z
UID:3203-1679299200-1679504400@aislec.it
SUMMARY:XXIV Corso LA GESTIONE DELLE COMPLICANZE AGLI ARTI INFERIORI NEL DIABETE MELLITO
DESCRIPTION:Pisa\, 20-22 MARZO 2023\nPisa – Hotel San Ranieri \nResponsabile: Alberto Piaggesi \n  \nSCARICA IL PROGRAMMA \nMAGGIORI INFORMAZIONI: https://malattieendocrine.it/piedediabetico2023/
URL:https://aislec.it/event/xxiv-corso-la-gestione-delle-complicanze-agli-arti-inferiori-nel-diabete-mellito/
CATEGORIES:Altri eventi patrocinati
ATTACH;FMTTYPE=image/png:https://aislec.it/wp-content/uploads/2024/12/Corso-piede-diabetico-2023__ResizedImageWzIxNyw0NDhd.png
END:VEVENT
BEGIN:VEVENT
DTSTART;TZID=Europe/Paris:20230513T080000
DTEND;TZID=Europe/Paris:20230513T170000
DTSTAMP:20260424T022155
CREATED:20241217T074122Z
LAST-MODIFIED:20241217T074122Z
UID:3200-1683964800-1683997200@aislec.it
SUMMARY:OPI Torino IL TALENTO DEGLI INFERMIERI: ARTE E SCIENZA IN EVOLUZIONE
DESCRIPTION:13 maggio 2023 dalle 14 alle 18 \nPiazza Arbarello – Torino
URL:https://aislec.it/event/opi-torino-il-talento-degli-infermieri-arte-e-scienza-in-evoluzione/
CATEGORIES:Altri eventi patrocinati
ATTACH;FMTTYPE=image/jpeg:https://aislec.it/wp-content/uploads/2024/12/Locandina_aggiornata.jpg
END:VEVENT
BEGIN:VEVENT
DTSTART;TZID=Europe/Paris:20230519T080000
DTEND;TZID=Europe/Paris:20230520T170000
DTSTAMP:20260424T022155
CREATED:20241217T074024Z
LAST-MODIFIED:20241217T074024Z
UID:3197-1684483200-1684602000@aislec.it
SUMMARY:IV Congresso Nazionale APSILEF IL PARADIGNA ATTRATTIVO DELLE PROFESSIONI SANITARE
DESCRIPTION:Caserta\, 19 e 20 maggio 2023 \nPatrocinato AISLeC \n  \nBROCHURE
URL:https://aislec.it/event/iv-congresso-nazionale-apsilef-il-paradigna-attrattivo-delle-professioni-sanitare/
CATEGORIES:Altri eventi patrocinati
END:VEVENT
BEGIN:VEVENT
DTSTART;TZID=Europe/Paris:20230526T080000
DTEND;TZID=Europe/Paris:20230526T170000
DTSTAMP:20260424T022155
CREATED:20241217T073911Z
LAST-MODIFIED:20241217T073911Z
UID:3193-1685088000-1685120400@aislec.it
SUMMARY:VIAGGIO NEL MONDO DEL WOUND CARE - IL PAZIENTE CON LESIONI CUTANEE CRONICHE: TRA OSPEDALE E TERRITORIO
DESCRIPTION:Alghero\, 26/05/2023 \nResponsabile Scientifico Dr.ssa LAURA DETTORI\, Delegato Regionale AISLeC Sardegna \n  \nPatrocinato AISLeC \nProgramma
URL:https://aislec.it/event/viaggio-nel-mondo-del-wound-care-il-paziente-con-lesioni-cutanee-croniche-tra-ospedale-e-territorio/
CATEGORIES:Altri eventi patrocinati
ATTACH;FMTTYPE=image/png:https://aislec.it/wp-content/uploads/2024/12/Immagine1-v6__ResizedImageWzUyMSwzNjdd.png
END:VEVENT
BEGIN:VEVENT
DTSTART;TZID=Europe/Paris:20230526T080000
DTEND;TZID=Europe/Paris:20230527T170000
DTSTAMP:20260424T022155
CREATED:20241217T073741Z
LAST-MODIFIED:20241217T073741Z
UID:3190-1685088000-1685206800@aislec.it
SUMMARY:4 ° OBESITY SYMPOSIUM
DESCRIPTION:Asti\, 26 e 27 Maggio 2023 \nCORSO ECM \nSimposio di approfondimento sui temi principali dell’obesità \nPresidente C. Ligresti \nPatrocinato AISLeC \nCONSULTA IL PROGRAMMA \n 
URL:https://aislec.it/event/4-obesity-symposium/
CATEGORIES:Altri eventi patrocinati
END:VEVENT
BEGIN:VEVENT
DTSTART;TZID=Europe/Paris:20230607T080000
DTEND;TZID=Europe/Paris:20230607T170000
DTSTAMP:20260424T022155
CREATED:20241217T073647Z
LAST-MODIFIED:20241217T073647Z
UID:3188-1686124800-1686157200@aislec.it
SUMMARY:BUONE PRATICHE NELLE LESIONI CUTANEE
DESCRIPTION:7 Giugno 2023 dalle 14:30 – 18:30 – Piattaforma FAD Jmeet \nCorso OPI Firenze Pistoia \n  \nResponsabile Scientifico Dr. Luca Innocenti\, Consiglio Direttivo AISLeC \n  \nMAGGIORI INFORMAZIONI \n 
URL:https://aislec.it/event/buone-pratiche-nelle-lesioni-cutanee/
CATEGORIES:Altri eventi patrocinati
END:VEVENT
BEGIN:VEVENT
DTSTART;TZID=Europe/Paris:20230622T080000
DTEND;TZID=Europe/Paris:20230623T170000
DTSTAMP:20260424T022155
CREATED:20241217T073455Z
LAST-MODIFIED:20241217T073615Z
UID:3182-1687420800-1687539600@aislec.it
SUMMARY:TEAM WORKING SKILLS IN WOUND CARE
DESCRIPTION:Arezzo\, 22 e 23 giugno 2023 \n  \nResponsabile Scientifico Dr.ssa SARA SANDRONI\, Delegato Regionale AISLeC Toscana \n  \nPatrocinato AISLeC \nCONSULTA IL PROGRAMMA
URL:https://aislec.it/event/team-working-skills-in-wound-care/
CATEGORIES:Altri eventi patrocinati
ATTACH;FMTTYPE=image/png:https://aislec.it/wp-content/uploads/2024/12/Immagine1-v7__ResizedImageWzMwMCw0MjZd.png
END:VEVENT
BEGIN:VEVENT
DTSTART;TZID=Europe/Paris:20230915T080000
DTEND;TZID=Europe/Paris:20230915T170000
DTSTAMP:20260424T022155
CREATED:20241217T073425Z
LAST-MODIFIED:20241217T073425Z
UID:3179-1694764800-1694797200@aislec.it
SUMMARY:EPUAP 2023 13 – INNOVATIONS IN PRESSURE ULCER PREVENTION AND TREATMENT
DESCRIPTION:15 September 2023\, Leeds\, United Kingdom \nEPUAP 2023 Chair: Susanne Coleman\, University of Leeds\nVenue: Royal Armouries \nLa presentazione degli abstract è aperta fino al 16 aprile e il programma preliminare è già disponibile;\ntutte le informazioni sono disponibili sul sito web della conferenza:\nwww.epuap2023.org
URL:https://aislec.it/event/epuap-2023-13-innovations-in-pressure-ulcer-prevention-and-treatment/
CATEGORIES:Altri eventi patrocinati
ATTACH;FMTTYPE=image/png:https://aislec.it/wp-content/uploads/2024/12/Banner-1__ResizedImageWzUwMCw5Ml0.png
END:VEVENT
BEGIN:VEVENT
DTSTART;TZID=Europe/Paris:20230921T080000
DTEND;TZID=Europe/Paris:20230923T170000
DTSTAMP:20260424T022155
CREATED:20241217T073317Z
LAST-MODIFIED:20241217T073317Z
UID:3177-1695283200-1695488400@aislec.it
SUMMARY:XXXVI CONGRESSO NAZIONALE AIP - Podologia riabilitativa 
DESCRIPTION:Podologia riabilitativa \n  \nPortonovo (AN)\, dal 21 al 23/09/2023 \n  \nPatrocinato AISLeC \n\nSAVE THE DATE
URL:https://aislec.it/event/xxxvi-congresso-nazionale-aip-podologia-riabilitativa/
CATEGORIES:Altri eventi patrocinati
END:VEVENT
BEGIN:VEVENT
DTSTART;TZID=Europe/Paris:20230928T080000
DTEND;TZID=Europe/Paris:20230930T170000
DTSTAMP:20260424T022155
CREATED:20241217T073244Z
LAST-MODIFIED:20241217T073244Z
UID:3174-1695888000-1696093200@aislec.it
SUMMARY:2° CONGRESSO NAZIONALE WULNOTECH
DESCRIPTION:High Training in Woundcare & Healthcare \nRoma\, 28-29-30 settembre 2023 \nPatrocinato AISLeC \n  \nPROGRAMMA
URL:https://aislec.it/event/2-congresso-nazionale-wulnotech/
CATEGORIES:Altri eventi patrocinati
END:VEVENT
BEGIN:VEVENT
DTSTART;TZID=Europe/Paris:20230930T080000
DTEND;TZID=Europe/Paris:20230930T170000
DTSTAMP:20260424T022155
CREATED:20241217T072541Z
LAST-MODIFIED:20241217T072541Z
UID:3170-1696060800-1696093200@aislec.it
SUMMARY:CONVEGNO INTERSOCIETARIO Integrare le competenze infermieristiche nella gestione delle Infezioni Correlate all'Assistenza: qual è il valore aggiunto?
DESCRIPTION:Roma\, 30/09/2023 \n  \nCon il Patrocinio di FNOPI \n  \nCONSULTA IL PROGRAMMA
URL:https://aislec.it/event/convegno-intersocietario-integrare-le-competenze-infermieristiche-nella-gestione-delle-infezioni-correlate-allassistenza-qual-e-il-valore-aggiunto/
CATEGORIES:Altri eventi patrocinati
ATTACH;FMTTYPE=image/png:https://aislec.it/wp-content/uploads/2024/12/CONVEGNO-INTERSOCIETARIO.png
END:VEVENT
BEGIN:VEVENT
DTSTART;TZID=Europe/Paris:20231011T080000
DTEND;TZID=Europe/Paris:20231014T170000
DTSTAMP:20260424T022155
CREATED:20241217T072425Z
LAST-MODIFIED:20241217T072425Z
UID:3167-1697011200-1697302800@aislec.it
SUMMARY:XVII Congresso Nazionale AIUC Vulnologia Insieme
DESCRIPTION:Torino\, dal 11 al 14/10/2023 \n  \nPatrocinato AISLeC \nMAGGIORI INFORMAZIONI
URL:https://aislec.it/event/xvii-congresso-nazionale-aiuc-vulnologia-insieme/
CATEGORIES:Altri eventi patrocinati
ATTACH;FMTTYPE=image/png:https://aislec.it/wp-content/uploads/2024/12/Congresso-AIUC-2023__ResizedImageWzYwMCwzMzdd.png
END:VEVENT
BEGIN:VEVENT
DTSTART;TZID=Europe/Paris:20231018T080000
DTEND;TZID=Europe/Paris:20231021T170000
DTSTAMP:20260424T022155
CREATED:20241217T072337Z
LAST-MODIFIED:20241217T072337Z
UID:3164-1697616000-1697907600@aislec.it
SUMMARY:52° Congresso Nazionale della Società Italiana di Cardiologia Pediatrica e delle Cardiopatie Congenite
DESCRIPTION:Firenze dal 19 al 21 ottobre 2023 \n  \nNursing Sicp \nPatrocinato AISLeC \nPROGRAMMA
URL:https://aislec.it/event/52-congresso-nazionale-della-societa-italiana-di-cardiologia-pediatrica-e-delle-cardiopatie-congenite/
CATEGORIES:Altri eventi patrocinati
END:VEVENT
BEGIN:VEVENT
DTSTART;TZID=Europe/Paris:20231104T080000
DTEND;TZID=Europe/Paris:20231104T170000
DTSTAMP:20260424T022155
CREATED:20241217T072228Z
LAST-MODIFIED:20241217T072228Z
UID:3160-1699084800-1699117200@aislec.it
SUMMARY:I TUMORI CUTANEI NON-MELANOMA: DERMOPLASTICA E DINTORNI Dalla conoscenza al trattamento attraverso l’innovazione e la multidisciplinarietà
DESCRIPTION:Milano\, 4 novembre 2023 \n  \nPatrocinato AISLeC \nPROGRAMMA
URL:https://aislec.it/event/i-tumori-cutanei-non-melanoma-dermoplastica-e-dintorni-dalla-conoscenza-al-trattamento-attraverso-linnovazione-e-la-multidisciplinarieta/
CATEGORIES:Altri eventi patrocinati
ATTACH;FMTTYPE=image/png:https://aislec.it/wp-content/uploads/2024/12/3-Congresso-C.LO_.DO_.png
END:VEVENT
BEGIN:VEVENT
DTSTART;TZID=Europe/Paris:20231113T080000
DTEND;TZID=Europe/Paris:20231117T170000
DTSTAMP:20260424T022155
CREATED:20241217T072055Z
LAST-MODIFIED:20241217T072055Z
UID:3154-1699862400-1700240400@aislec.it
SUMMARY:XII Anno Accademico IAWC
DESCRIPTION:Polo Universitario di Asti \ndal 13 al 17 novembre 2023 \nPatrocinato AISLeC \nCORSO BASIC\n13-17 NOVEMBRE 2023 Titolo: Diploma IAWC Basic\n5 gg UNIASTISS + 6 gg totali\nin Centri di Eccellenza \nCORSO ADVANCED\n13-17 NOVEMBRE 2023 Titolo: Diploma IAWC Expert\n5 gg UNIASTISS + 5 gg totali\nin Centri di Eccellenza Requisiti: corso Basic o Master Universitario in Vulnologia \nBROCHURE \nPROGRAMMA CORSO BASIC \nPROGRAMMA CORSO ADVANCED
URL:https://aislec.it/event/xii-anno-accademico-iawc/
CATEGORIES:Altri eventi patrocinati
ATTACH;FMTTYPE=image/png:https://aislec.it/wp-content/uploads/2024/12/Immagine1-v9__ResizedImageWzQwMCw0MzBd.png
END:VEVENT
BEGIN:VEVENT
DTSTART;TZID=Europe/Paris:20231121T080000
DTEND;TZID=Europe/Paris:20231124T170000
DTSTAMP:20260424T022155
CREATED:20241217T071748Z
LAST-MODIFIED:20241217T071748Z
UID:3151-1700553600-1700845200@aislec.it
SUMMARY:18° FORUM RISK MANAGEMENT IN SANITÀ
DESCRIPTION:Arezzo \ndal 21 al 24 novembre 2023 \nPatrocinato AISLeC \n  \nFORUM RISK MANAGEMENT
URL:https://aislec.it/event/18-forum-risk-management-in-sanita/
CATEGORIES:Altri eventi patrocinati
ATTACH;FMTTYPE=image/png:https://aislec.it/wp-content/uploads/2024/12/Screenshot-2023-09-05-112504__ResizedImageWzQ2OSw3NDJd.png
END:VEVENT
BEGIN:VEVENT
DTSTART;TZID=Europe/Paris:20231125T080000
DTEND;TZID=Europe/Paris:20231125T170000
DTSTAMP:20260424T022155
CREATED:20241217T071651Z
LAST-MODIFIED:20241217T071651Z
UID:3147-1700899200-1700931600@aislec.it
SUMMARY:Pianeta ulcere
DESCRIPTION:NAPOLI – 25 novembre 2023 \n  \nPROGRAMMA \nINFORMAZIONI CONGRESSO 
URL:https://aislec.it/event/pianeta-ulcere/
CATEGORIES:Altri eventi patrocinati
ATTACH;FMTTYPE=image/png:https://aislec.it/wp-content/uploads/2024/12/screencapture-pianetaulcere-it-download-brochure-pianeta-ulcere-pdf-2023-11-16-11_05_48__ResizedImageWzUwMyw0OTFd.png
END:VEVENT
BEGIN:VEVENT
DTSTART;TZID=Europe/Paris:20231126T080000
DTEND;TZID=Europe/Paris:20231129T170000
DTSTAMP:20260424T022155
CREATED:20241216T230956Z
LAST-MODIFIED:20241216T230956Z
UID:3083-1700985600-1701277200@aislec.it
SUMMARY:19° Forum Risk Management in sanità
DESCRIPTION:Arezzo \ndal 26 al 29 novembre 2023 \n  \nPatrocinato AISLeC \n  \nFORUM RISK MANAGEMENT
URL:https://aislec.it/event/19-forum-risk-management-in-sanita/
CATEGORIES:Altri eventi patrocinati
ATTACH;FMTTYPE=image/png:https://aislec.it/wp-content/uploads/2024/12/Screenshot-2024-12-02-162007__ResizedImageWzI1MSwyMjZd.png
END:VEVENT
BEGIN:VEVENT
DTSTART;TZID=Europe/Paris:20231220T080000
DTEND;TZID=Europe/Paris:20231220T170000
DTSTAMP:20260424T022155
CREATED:20241216T231746Z
LAST-MODIFIED:20241216T231853Z
UID:3100-1703059200-1703091600@aislec.it
SUMMARY:Progetto Ulisse
DESCRIPTION:Indagine qualitativa \ncondotta da: Università Carlo Cattaneo – LIUC\, \nin collaborazione conConfindustria Dispositivi Medici e con le principali aziende produttrici di dispositivi medici \ndestinati alla cura dei pazienti con lesione cutanea. \n  \nProgramma \nPatrocinato AISLeC
URL:https://aislec.it/event/progetto-ulisse/
CATEGORIES:Altri eventi patrocinati
END:VEVENT
BEGIN:VEVENT
DTSTART;TZID=Europe/Paris:20231221T080000
DTEND;TZID=Europe/Paris:20231221T170000
DTSTAMP:20260424T022155
CREATED:20241216T231825Z
LAST-MODIFIED:20241216T231825Z
UID:3103-1703145600-1703178000@aislec.it
SUMMARY:Pazienti + famigliari + operatori sanitari insieme per vincere
DESCRIPTION:Villa Pace Park Hotel Bolognese – Preganziol (TV)  – 21 settembre 2024  \n  \nCongresso \nPatrocinato AISLeC
URL:https://aislec.it/event/pazienti-famigliari-operatori-sanitari-insieme-per-vincere/
CATEGORIES:Altri eventi patrocinati
END:VEVENT
BEGIN:VEVENT
DTSTART;TZID=Europe/Paris:20240208T080000
DTEND;TZID=Europe/Paris:20240209T170000
DTSTAMP:20260424T022155
CREATED:20241217T071521Z
LAST-MODIFIED:20241217T071521Z
UID:3143-1707379200-1707498000@aislec.it
SUMMARY:Winter School 2024 - L'innovazione cambia il futuro
DESCRIPTION:Cernobbio (CO) – Villa Erba – Centro Internazionale Esposizione e Congressi  \n8 e 9 febbraio 2024  \n  \nPatrocinato AISLeC \n  \nProgramma \n 
URL:https://aislec.it/event/winter-school-2024-linnovazione-cambia-il-futuro/
CATEGORIES:Altri eventi patrocinati
ATTACH;FMTTYPE=image/jpeg:https://aislec.it/wp-content/uploads/2024/12/Immagine1.jpg
END:VEVENT
BEGIN:VEVENT
DTSTART;TZID=Europe/Paris:20240302T080000
DTEND;TZID=Europe/Paris:20240302T170000
DTSTAMP:20260424T022155
CREATED:20241217T071333Z
LAST-MODIFIED:20241217T071333Z
UID:3139-1709366400-1709398800@aislec.it
SUMMARY:Le lesioni cutanee degli arti inferiori
DESCRIPTION:Firenze presso il Grand Hotel Baglioni – Sabato 2 Marzo 2024 \nProgramma
URL:https://aislec.it/event/le-lesioni-cutanee-degli-arti-inferiori-2/
CATEGORIES:Altri eventi patrocinati
ATTACH;FMTTYPE=image/png:https://aislec.it/wp-content/uploads/2024/12/locandina_lesioni_cutanee.png
END:VEVENT
BEGIN:VEVENT
DTSTART;TZID=Europe/Paris:20240405T080000
DTEND;TZID=Europe/Paris:20240405T170000
DTSTAMP:20260424T022155
CREATED:20241216T233324Z
LAST-MODIFIED:20241216T233324Z
UID:3136-1712304000-1712336400@aislec.it
SUMMARY:WOUND CARE UPDATE 2024 La gestione integrata delle ulcere cutanee croniche
DESCRIPTION:Centro Congressi Savoia Regency – BOLOGNA \n5 aprile 2024 \n  \nProgramma \n  \nCongresso \nPatrocinato AISLeC
URL:https://aislec.it/event/wound-care-update-2024-la-gestione-integrata-delle-ulcere-cutanee-croniche/
CATEGORIES:Altri eventi patrocinati
END:VEVENT
BEGIN:VEVENT
DTSTART;TZID=Europe/Paris:20240509T080000
DTEND;TZID=Europe/Paris:20240509T170000
DTSTAMP:20260424T022155
CREATED:20241216T233206Z
LAST-MODIFIED:20241216T233206Z
UID:3131-1715241600-1715274000@aislec.it
SUMMARY:Focus on wound care: Approccio multidisciplinare al paziente con ulcere dall'ospedale al territorio
DESCRIPTION:Cava De’ Tirreni – Holiday Inn \n9 Maggio 2024 \n  \nProgramma \n  \nCongresso \nPatrocinato AISLeC
URL:https://aislec.it/event/focus-on-wound-care-approccio-multidisciplinare-al-paziente-con-ulcere-dallospedale-al-territorio/
CATEGORIES:Altri eventi patrocinati
ATTACH;FMTTYPE=image/png:https://aislec.it/wp-content/uploads/2024/12/Screenshot-2024-03-28-120225__ResizedImageWzQzNiwzNjJd.png
END:VEVENT
BEGIN:VEVENT
DTSTART;TZID=Europe/Paris:20240510T080000
DTEND;TZID=Europe/Paris:20240510T170000
DTSTAMP:20260424T022155
CREATED:20241216T232952Z
LAST-MODIFIED:20241216T232952Z
UID:3128-1715328000-1715360400@aislec.it
SUMMARY:Viaggio nel mondo del Wound Care - La gestione della persona con lesioni cutanee: valutazione\, trattamento e complessità assistenziale
DESCRIPTION:3° EDIZIONE\nAlghero 10 maggio 2024 \n  \nPatrocinato AISLeC
URL:https://aislec.it/event/viaggio-nel-mondo-del-wound-care-la-gestione-della-persona-con-lesioni-cutanee-valutazione-trattamento-e-complessita-assistenziale/
CATEGORIES:Altri eventi patrocinati
ATTACH;FMTTYPE=image/png:https://aislec.it/wp-content/uploads/2024/12/Screenshot-2024-04-10-094911__ResizedImageWzQ5NywxNzhd.png
END:VEVENT
BEGIN:VEVENT
DTSTART;TZID=Europe/Paris:20240512T080000
DTEND;TZID=Europe/Paris:20240512T170000
DTSTAMP:20260424T022155
CREATED:20241216T232751Z
LAST-MODIFIED:20241216T232751Z
UID:3125-1715500800-1715533200@aislec.it
SUMMARY:Giornata internazionale dell'infermiere
DESCRIPTION:Torino 12 maggio 2024
URL:https://aislec.it/event/giornata-internazionale-dellinfermiere/
CATEGORIES:Altri eventi patrocinati
ATTACH;FMTTYPE=image/png:https://aislec.it/wp-content/uploads/2024/12/Screenshot-2024-05-09-111107__ResizedImageWzMxOCw0NDdd.png
END:VEVENT
END:VCALENDAR