BEGIN:VCALENDAR
VERSION:2.0
PRODID:-//AISLeC - ECPv6.15.17.1//NONSGML v1.0//EN
CALSCALE:GREGORIAN
METHOD:PUBLISH
X-WR-CALNAME:AISLeC
X-ORIGINAL-URL:https://aislec.it
X-WR-CALDESC:Eventi per AISLeC
REFRESH-INTERVAL;VALUE=DURATION:PT1H
X-Robots-Tag:noindex
X-PUBLISHED-TTL:PT1H
BEGIN:VTIMEZONE
TZID:Europe/Paris
BEGIN:DAYLIGHT
TZOFFSETFROM:+0100
TZOFFSETTO:+0200
TZNAME:CEST
DTSTART:20220327T010000
END:DAYLIGHT
BEGIN:STANDARD
TZOFFSETFROM:+0200
TZOFFSETTO:+0100
TZNAME:CET
DTSTART:20221030T010000
END:STANDARD
BEGIN:DAYLIGHT
TZOFFSETFROM:+0100
TZOFFSETTO:+0200
TZNAME:CEST
DTSTART:20230326T010000
END:DAYLIGHT
BEGIN:STANDARD
TZOFFSETFROM:+0200
TZOFFSETTO:+0100
TZNAME:CET
DTSTART:20231029T010000
END:STANDARD
BEGIN:DAYLIGHT
TZOFFSETFROM:+0100
TZOFFSETTO:+0200
TZNAME:CEST
DTSTART:20240331T010000
END:DAYLIGHT
BEGIN:STANDARD
TZOFFSETFROM:+0200
TZOFFSETTO:+0100
TZNAME:CET
DTSTART:20241027T010000
END:STANDARD
END:VTIMEZONE
BEGIN:VEVENT
DTSTART;TZID=Europe/Paris:20230915T080000
DTEND;TZID=Europe/Paris:20230915T170000
DTSTAMP:20260422T210551
CREATED:20241217T073425Z
LAST-MODIFIED:20241217T073425Z
UID:3179-1694764800-1694797200@aislec.it
SUMMARY:EPUAP 2023 13 – INNOVATIONS IN PRESSURE ULCER PREVENTION AND TREATMENT
DESCRIPTION:15 September 2023\, Leeds\, United Kingdom \nEPUAP 2023 Chair: Susanne Coleman\, University of Leeds\nVenue: Royal Armouries \nLa presentazione degli abstract è aperta fino al 16 aprile e il programma preliminare è già disponibile;\ntutte le informazioni sono disponibili sul sito web della conferenza:\nwww.epuap2023.org
URL:https://aislec.it/event/epuap-2023-13-innovations-in-pressure-ulcer-prevention-and-treatment/
CATEGORIES:Altri eventi patrocinati
ATTACH;FMTTYPE=image/png:https://aislec.it/wp-content/uploads/2024/12/Banner-1__ResizedImageWzUwMCw5Ml0.png
END:VEVENT
END:VCALENDAR