BEGIN:VCALENDAR
VERSION:2.0
PRODID:-//AISLeC - ECPv6.15.17.1//NONSGML v1.0//EN
CALSCALE:GREGORIAN
METHOD:PUBLISH
X-ORIGINAL-URL:https://aislec.it
X-WR-CALDESC:Eventi per AISLeC
REFRESH-INTERVAL;VALUE=DURATION:PT1H
X-Robots-Tag:noindex
X-PUBLISHED-TTL:PT1H
BEGIN:VTIMEZONE
TZID:Europe/Paris
BEGIN:DAYLIGHT
TZOFFSETFROM:+0100
TZOFFSETTO:+0200
TZNAME:CEST
DTSTART:20220327T010000
END:DAYLIGHT
BEGIN:STANDARD
TZOFFSETFROM:+0200
TZOFFSETTO:+0100
TZNAME:CET
DTSTART:20221030T010000
END:STANDARD
BEGIN:DAYLIGHT
TZOFFSETFROM:+0100
TZOFFSETTO:+0200
TZNAME:CEST
DTSTART:20230326T010000
END:DAYLIGHT
BEGIN:STANDARD
TZOFFSETFROM:+0200
TZOFFSETTO:+0100
TZNAME:CET
DTSTART:20231029T010000
END:STANDARD
BEGIN:DAYLIGHT
TZOFFSETFROM:+0100
TZOFFSETTO:+0200
TZNAME:CEST
DTSTART:20240331T010000
END:DAYLIGHT
BEGIN:STANDARD
TZOFFSETFROM:+0200
TZOFFSETTO:+0100
TZNAME:CET
DTSTART:20241027T010000
END:STANDARD
END:VTIMEZONE
BEGIN:VEVENT
DTSTART;TZID=Europe/Paris:20231104T080000
DTEND;TZID=Europe/Paris:20231104T170000
DTSTAMP:20260422T180139
CREATED:20241217T072228Z
LAST-MODIFIED:20241217T072228Z
UID:3160-1699084800-1699117200@aislec.it
SUMMARY:I TUMORI CUTANEI NON-MELANOMA: DERMOPLASTICA E DINTORNI Dalla conoscenza al trattamento attraverso l’innovazione e la multidisciplinarietà
DESCRIPTION:Milano\, 4 novembre 2023 \n  \nPatrocinato AISLeC \nPROGRAMMA
URL:https://aislec.it/event/i-tumori-cutanei-non-melanoma-dermoplastica-e-dintorni-dalla-conoscenza-al-trattamento-attraverso-linnovazione-e-la-multidisciplinarieta/
CATEGORIES:Altri eventi patrocinati
ATTACH;FMTTYPE=image/png:https://aislec.it/wp-content/uploads/2024/12/3-Congresso-C.LO_.DO_.png
END:VEVENT
END:VCALENDAR