BEGIN:VCALENDAR
VERSION:2.0
PRODID:-//AISLeC - ECPv6.15.17.1//NONSGML v1.0//EN
CALSCALE:GREGORIAN
METHOD:PUBLISH
X-WR-CALNAME:AISLeC
X-ORIGINAL-URL:https://aislec.it
X-WR-CALDESC:Eventi per AISLeC
REFRESH-INTERVAL;VALUE=DURATION:PT1H
X-Robots-Tag:noindex
X-PUBLISHED-TTL:PT1H
BEGIN:VTIMEZONE
TZID:Europe/Paris
BEGIN:DAYLIGHT
TZOFFSETFROM:+0100
TZOFFSETTO:+0200
TZNAME:CEST
DTSTART:20220327T010000
END:DAYLIGHT
BEGIN:STANDARD
TZOFFSETFROM:+0200
TZOFFSETTO:+0100
TZNAME:CET
DTSTART:20221030T010000
END:STANDARD
BEGIN:DAYLIGHT
TZOFFSETFROM:+0100
TZOFFSETTO:+0200
TZNAME:CEST
DTSTART:20230326T010000
END:DAYLIGHT
BEGIN:STANDARD
TZOFFSETFROM:+0200
TZOFFSETTO:+0100
TZNAME:CET
DTSTART:20231029T010000
END:STANDARD
BEGIN:DAYLIGHT
TZOFFSETFROM:+0100
TZOFFSETTO:+0200
TZNAME:CEST
DTSTART:20240331T010000
END:DAYLIGHT
BEGIN:STANDARD
TZOFFSETFROM:+0200
TZOFFSETTO:+0100
TZNAME:CET
DTSTART:20241027T010000
END:STANDARD
END:VTIMEZONE
BEGIN:VEVENT
DTSTART;TZID=Europe/Paris:20231113T080000
DTEND;TZID=Europe/Paris:20231117T170000
DTSTAMP:20260422T175804
CREATED:20241217T072055Z
LAST-MODIFIED:20241217T072055Z
UID:3154-1699862400-1700240400@aislec.it
SUMMARY:XII Anno Accademico IAWC
DESCRIPTION:Polo Universitario di Asti \ndal 13 al 17 novembre 2023 \nPatrocinato AISLeC \nCORSO BASIC\n13-17 NOVEMBRE 2023 Titolo: Diploma IAWC Basic\n5 gg UNIASTISS + 6 gg totali\nin Centri di Eccellenza \nCORSO ADVANCED\n13-17 NOVEMBRE 2023 Titolo: Diploma IAWC Expert\n5 gg UNIASTISS + 5 gg totali\nin Centri di Eccellenza Requisiti: corso Basic o Master Universitario in Vulnologia \nBROCHURE \nPROGRAMMA CORSO BASIC \nPROGRAMMA CORSO ADVANCED
URL:https://aislec.it/event/xii-anno-accademico-iawc/
CATEGORIES:Altri eventi patrocinati
ATTACH;FMTTYPE=image/png:https://aislec.it/wp-content/uploads/2024/12/Immagine1-v9__ResizedImageWzQwMCw0MzBd.png
END:VEVENT
END:VCALENDAR