BEGIN:VCALENDAR
VERSION:2.0
PRODID:-//AISLeC - ECPv6.15.17.1//NONSGML v1.0//EN
CALSCALE:GREGORIAN
METHOD:PUBLISH
X-WR-CALNAME:AISLeC
X-ORIGINAL-URL:https://aislec.it
X-WR-CALDESC:Eventi per AISLeC
REFRESH-INTERVAL;VALUE=DURATION:PT1H
X-Robots-Tag:noindex
X-PUBLISHED-TTL:PT1H
BEGIN:VTIMEZONE
TZID:Europe/Paris
BEGIN:DAYLIGHT
TZOFFSETFROM:+0100
TZOFFSETTO:+0200
TZNAME:CEST
DTSTART:20230326T010000
END:DAYLIGHT
BEGIN:STANDARD
TZOFFSETFROM:+0200
TZOFFSETTO:+0100
TZNAME:CET
DTSTART:20231029T010000
END:STANDARD
BEGIN:DAYLIGHT
TZOFFSETFROM:+0100
TZOFFSETTO:+0200
TZNAME:CEST
DTSTART:20240331T010000
END:DAYLIGHT
BEGIN:STANDARD
TZOFFSETFROM:+0200
TZOFFSETTO:+0100
TZNAME:CET
DTSTART:20241027T010000
END:STANDARD
BEGIN:DAYLIGHT
TZOFFSETFROM:+0100
TZOFFSETTO:+0200
TZNAME:CEST
DTSTART:20250330T010000
END:DAYLIGHT
BEGIN:STANDARD
TZOFFSETFROM:+0200
TZOFFSETTO:+0100
TZNAME:CET
DTSTART:20251026T010000
END:STANDARD
END:VTIMEZONE
BEGIN:VEVENT
DTSTART;TZID=Europe/Paris:20240509T080000
DTEND;TZID=Europe/Paris:20240509T170000
DTSTAMP:20260422T090358
CREATED:20241216T233206Z
LAST-MODIFIED:20241216T233206Z
UID:3131-1715241600-1715274000@aislec.it
SUMMARY:Focus on wound care: Approccio multidisciplinare al paziente con ulcere dall'ospedale al territorio
DESCRIPTION:Cava De’ Tirreni – Holiday Inn \n9 Maggio 2024 \n  \nProgramma \n  \nCongresso \nPatrocinato AISLeC
URL:https://aislec.it/event/focus-on-wound-care-approccio-multidisciplinare-al-paziente-con-ulcere-dallospedale-al-territorio/
CATEGORIES:Altri eventi patrocinati
ATTACH;FMTTYPE=image/png:https://aislec.it/wp-content/uploads/2024/12/Screenshot-2024-03-28-120225__ResizedImageWzQzNiwzNjJd.png
END:VEVENT
END:VCALENDAR