BEGIN:VCALENDAR
VERSION:2.0
PRODID:-//AISLeC - ECPv6.15.17.1//NONSGML v1.0//EN
CALSCALE:GREGORIAN
METHOD:PUBLISH
X-WR-CALNAME:AISLeC
X-ORIGINAL-URL:https://aislec.it
X-WR-CALDESC:Eventi per AISLeC
REFRESH-INTERVAL;VALUE=DURATION:PT1H
X-Robots-Tag:noindex
X-PUBLISHED-TTL:PT1H
BEGIN:VTIMEZONE
TZID:Europe/Paris
BEGIN:DAYLIGHT
TZOFFSETFROM:+0100
TZOFFSETTO:+0200
TZNAME:CEST
DTSTART:20230326T010000
END:DAYLIGHT
BEGIN:STANDARD
TZOFFSETFROM:+0200
TZOFFSETTO:+0100
TZNAME:CET
DTSTART:20231029T010000
END:STANDARD
BEGIN:DAYLIGHT
TZOFFSETFROM:+0100
TZOFFSETTO:+0200
TZNAME:CEST
DTSTART:20240331T010000
END:DAYLIGHT
BEGIN:STANDARD
TZOFFSETFROM:+0200
TZOFFSETTO:+0100
TZNAME:CET
DTSTART:20241027T010000
END:STANDARD
BEGIN:DAYLIGHT
TZOFFSETFROM:+0100
TZOFFSETTO:+0200
TZNAME:CEST
DTSTART:20250330T010000
END:DAYLIGHT
BEGIN:STANDARD
TZOFFSETFROM:+0200
TZOFFSETTO:+0100
TZNAME:CET
DTSTART:20251026T010000
END:STANDARD
END:VTIMEZONE
BEGIN:VEVENT
DTSTART;TZID=Europe/Paris:20240517T080000
DTEND;TZID=Europe/Paris:20240517T170000
DTSTAMP:20260422T103850
CREATED:20241216T232656Z
LAST-MODIFIED:20241216T232656Z
UID:3121-1715932800-1715965200@aislec.it
SUMMARY:Il paziente con ulcere cutanee a 360°: gestione clinica
DESCRIPTION:Pavia 17 maggio 2024 \n  \nProgramma \n  \nPatrocinato AISLeC
URL:https://aislec.it/event/il-paziente-con-ulcere-cutanee-a-360-gestione-clinica/
CATEGORIES:Altri eventi patrocinati
ATTACH;FMTTYPE=image/jpeg:https://aislec.it/wp-content/uploads/2024/12/opi-logo.jpg
END:VEVENT
BEGIN:VEVENT
DTSTART;TZID=Europe/Paris:20240517T080000
DTEND;TZID=Europe/Paris:20240518T170000
DTSTAMP:20260422T103850
CREATED:20241216T232450Z
LAST-MODIFIED:20241216T232450Z
UID:3117-1715932800-1716051600@aislec.it
SUMMARY:La cura del piede diabetico - Il metodo vincente è la multidisciplinarietà
DESCRIPTION:AOU “San Giovanni di Dio e Ruggi d’Aragona” Salerno 17 e 18 maggio 2024 \n  \nProgramma \n  \nPatrocinato AISLeC
URL:https://aislec.it/event/la-cura-del-piede-diabetico-il-metodo-vincente-e-la-multidisciplinarieta/
CATEGORIES:Altri eventi patrocinati
ATTACH;FMTTYPE=image/jpeg:https://aislec.it/wp-content/uploads/2024/12/Piede-Diabetico__ResizedImageWzM5NiwzMDRd.jpg
END:VEVENT
END:VCALENDAR