BEGIN:VCALENDAR
VERSION:2.0
PRODID:-//AISLeC - ECPv6.15.17.1//NONSGML v1.0//EN
CALSCALE:GREGORIAN
METHOD:PUBLISH
X-ORIGINAL-URL:https://aislec.it
X-WR-CALDESC:Eventi per AISLeC
REFRESH-INTERVAL;VALUE=DURATION:PT1H
X-Robots-Tag:noindex
X-PUBLISHED-TTL:PT1H
BEGIN:VTIMEZONE
TZID:Europe/Paris
BEGIN:DAYLIGHT
TZOFFSETFROM:+0100
TZOFFSETTO:+0200
TZNAME:CEST
DTSTART:20230326T010000
END:DAYLIGHT
BEGIN:STANDARD
TZOFFSETFROM:+0200
TZOFFSETTO:+0100
TZNAME:CET
DTSTART:20231029T010000
END:STANDARD
BEGIN:DAYLIGHT
TZOFFSETFROM:+0100
TZOFFSETTO:+0200
TZNAME:CEST
DTSTART:20240331T010000
END:DAYLIGHT
BEGIN:STANDARD
TZOFFSETFROM:+0200
TZOFFSETTO:+0100
TZNAME:CET
DTSTART:20241027T010000
END:STANDARD
BEGIN:DAYLIGHT
TZOFFSETFROM:+0100
TZOFFSETTO:+0200
TZNAME:CEST
DTSTART:20250330T010000
END:DAYLIGHT
BEGIN:STANDARD
TZOFFSETFROM:+0200
TZOFFSETTO:+0100
TZNAME:CET
DTSTART:20251026T010000
END:STANDARD
END:VTIMEZONE
BEGIN:VEVENT
DTSTART;TZID=Europe/Paris:20241205T080000
DTEND;TZID=Europe/Paris:20241205T170000
DTSTAMP:20260421T211300
CREATED:20241205T130045Z
LAST-MODIFIED:20241205T130045Z
UID:1819-1733385600-1733418000@aislec.it
SUMMARY:Master Executive - Competenze per l’Health Technology Assessment
DESCRIPTION:XIII Edizione – dal 20/02/2025 al 27/02/2026 \n  \nUniversità Carlo Cattaneo – LIUC\nCastellanza (VA)
URL:https://aislec.it/event/master-executive-competenze-per-lhealth-technology-assessment/
LOCATION:Università Carlo Cattaneo – LIUC  Castellanza (VA)\, Castellanza (VA)\, Italy
CATEGORIES:Altri eventi patrocinati
ATTACH;FMTTYPE=image/png:https://aislec.it/wp-content/uploads/2024/12/Screenshot-2024-12-02-164352__ResizedImageWzM2NCwyNTNd.png
END:VEVENT
END:VCALENDAR