BEGIN:VCALENDAR
VERSION:2.0
PRODID:-//AISLeC - ECPv6.15.17.1//NONSGML v1.0//EN
CALSCALE:GREGORIAN
METHOD:PUBLISH
X-WR-CALNAME:AISLeC
X-ORIGINAL-URL:https://aislec.it
X-WR-CALDESC:Eventi per AISLeC
REFRESH-INTERVAL;VALUE=DURATION:PT1H
X-Robots-Tag:noindex
X-PUBLISHED-TTL:PT1H
BEGIN:VTIMEZONE
TZID:Europe/Paris
BEGIN:DAYLIGHT
TZOFFSETFROM:+0100
TZOFFSETTO:+0200
TZNAME:CEST
DTSTART:20240331T010000
END:DAYLIGHT
BEGIN:STANDARD
TZOFFSETFROM:+0200
TZOFFSETTO:+0100
TZNAME:CET
DTSTART:20241027T010000
END:STANDARD
BEGIN:DAYLIGHT
TZOFFSETFROM:+0100
TZOFFSETTO:+0200
TZNAME:CEST
DTSTART:20250330T010000
END:DAYLIGHT
BEGIN:STANDARD
TZOFFSETFROM:+0200
TZOFFSETTO:+0100
TZNAME:CET
DTSTART:20251026T010000
END:STANDARD
BEGIN:DAYLIGHT
TZOFFSETFROM:+0100
TZOFFSETTO:+0200
TZNAME:CEST
DTSTART:20260329T010000
END:DAYLIGHT
BEGIN:STANDARD
TZOFFSETFROM:+0200
TZOFFSETTO:+0100
TZNAME:CET
DTSTART:20261025T010000
END:STANDARD
END:VTIMEZONE
BEGIN:VEVENT
DTSTART;TZID=Europe/Paris:20251016T183000
DTEND;TZID=Europe/Paris:20251016T200000
DTSTAMP:20260421T043915
CREATED:20250826T105951Z
LAST-MODIFIED:20251013T140643Z
UID:6680-1760639400-1760644800@aislec.it
SUMMARY:WEBINAR EWMA - Sfruttiamo la magia della compressione per salvare gambe e vite
DESCRIPTION:16 OTTOBRE 2025 \nEvento Patrocinato AISLeC \nQuesto webinar è progettato per aiutarti a capire come utilizzare la terapia compressiva in modo efficace per contribuire a migliorare la gestione delle persone con ulcere degli arti inferiori. Con i relatori Battistino Paggi\, Giovanni Mosti e Roberto Polignano potrai percorrere un sentiero che ti permetterà di saperne di più sui materiali per la terapia compressiva\, come applicare una efficace terapia compressiva e come incrementare l’aderenza alla compressione da parte dei pazienti.\nI pazienti con ulcera degli arti inferiori possono essere trattati efficacemente con la terapia compressiva. Non è magia\, è compressione! \nCLICCA QUI per registrarti e ricevere il link alla diretta \nCLICCA QUI PER ACCEDERE \nWEBINAR EWMA 16.10.25
URL:https://aislec.it/event/webinar-ewma-sfruttiamo-la-magia-della-compressione-per-salvare-gambe-e-vite/
CATEGORIES:Agenda,Altri eventi patrocinati
ATTACH;FMTTYPE=image/png:https://aislec.it/wp-content/uploads/2025/08/Screenshot-2025-08-26-125902.png
END:VEVENT
END:VCALENDAR