BEGIN:VCALENDAR
VERSION:2.0
PRODID:-//AISLeC - ECPv6.15.17.1//NONSGML v1.0//EN
CALSCALE:GREGORIAN
METHOD:PUBLISH
X-ORIGINAL-URL:https://aislec.it
X-WR-CALDESC:Eventi per AISLeC
REFRESH-INTERVAL;VALUE=DURATION:PT1H
X-Robots-Tag:noindex
X-PUBLISHED-TTL:PT1H
BEGIN:VTIMEZONE
TZID:Europe/Paris
BEGIN:DAYLIGHT
TZOFFSETFROM:+0100
TZOFFSETTO:+0200
TZNAME:CEST
DTSTART:20240331T010000
END:DAYLIGHT
BEGIN:STANDARD
TZOFFSETFROM:+0200
TZOFFSETTO:+0100
TZNAME:CET
DTSTART:20241027T010000
END:STANDARD
BEGIN:DAYLIGHT
TZOFFSETFROM:+0100
TZOFFSETTO:+0200
TZNAME:CEST
DTSTART:20250330T010000
END:DAYLIGHT
BEGIN:STANDARD
TZOFFSETFROM:+0200
TZOFFSETTO:+0100
TZNAME:CET
DTSTART:20251026T010000
END:STANDARD
BEGIN:DAYLIGHT
TZOFFSETFROM:+0100
TZOFFSETTO:+0200
TZNAME:CEST
DTSTART:20260329T010000
END:DAYLIGHT
BEGIN:STANDARD
TZOFFSETFROM:+0200
TZOFFSETTO:+0100
TZNAME:CET
DTSTART:20261025T010000
END:STANDARD
END:VTIMEZONE
BEGIN:VEVENT
DTSTART;TZID=Europe/Paris:20251026T080000
DTEND;TZID=Europe/Paris:20251028T173000
DTSTAMP:20260421T031118
CREATED:20250730T135700Z
LAST-MODIFIED:20250807T114952Z
UID:6561-1761465600-1761672600@aislec.it
SUMMARY:EVENTO “FLEBOLOGIA E LINFOLOGIA DEL TERZO MILLENNIO”
DESCRIPTION:Torino – 26 – 28 ottobre 2025 \nEvento Patrocinato AISLeC \nProgramma \nDraft Programma Congresso CIF-AFI-SILFO REV 20.06 NO SPONSOR
URL:https://aislec.it/event/evento-flebologia-e-linfologia-del-terzo-millennio/
CATEGORIES:Agenda,Altri eventi patrocinati
ATTACH;FMTTYPE=image/png:https://aislec.it/wp-content/uploads/2025/07/Screenshot-2025-07-30-155203.png
END:VEVENT
END:VCALENDAR