BEGIN:VCALENDAR
VERSION:2.0
PRODID:-//AISLeC - ECPv6.15.17.1//NONSGML v1.0//EN
CALSCALE:GREGORIAN
METHOD:PUBLISH
X-ORIGINAL-URL:https://aislec.it
X-WR-CALDESC:Eventi per AISLeC
REFRESH-INTERVAL;VALUE=DURATION:PT1H
X-Robots-Tag:noindex
X-PUBLISHED-TTL:PT1H
BEGIN:VTIMEZONE
TZID:Europe/Paris
BEGIN:DAYLIGHT
TZOFFSETFROM:+0100
TZOFFSETTO:+0200
TZNAME:CEST
DTSTART:20240331T010000
END:DAYLIGHT
BEGIN:STANDARD
TZOFFSETFROM:+0200
TZOFFSETTO:+0100
TZNAME:CET
DTSTART:20241027T010000
END:STANDARD
BEGIN:DAYLIGHT
TZOFFSETFROM:+0100
TZOFFSETTO:+0200
TZNAME:CEST
DTSTART:20250330T010000
END:DAYLIGHT
BEGIN:STANDARD
TZOFFSETFROM:+0200
TZOFFSETTO:+0100
TZNAME:CET
DTSTART:20251026T010000
END:STANDARD
BEGIN:DAYLIGHT
TZOFFSETFROM:+0100
TZOFFSETTO:+0200
TZNAME:CEST
DTSTART:20260329T010000
END:DAYLIGHT
BEGIN:STANDARD
TZOFFSETFROM:+0200
TZOFFSETTO:+0100
TZNAME:CET
DTSTART:20261025T010000
END:STANDARD
END:VTIMEZONE
BEGIN:VEVENT
DTSTART;TZID=Europe/Paris:20251104T080000
DTEND;TZID=Europe/Paris:20251108T173000
DTSTAMP:20260421T031159
CREATED:20250730T153127Z
LAST-MODIFIED:20250930T090024Z
UID:6575-1762243200-1762623000@aislec.it
SUMMARY:CORSO BIENNALE IAWC 2025-2027
DESCRIPTION:INTERNATIONAL MASTERCLASS\nASTI 7th – 8 th NOVEMBER 2025\nCorso Avanzato per : Medici \, Infermieri \, Farmacisti\, Podologi \nEvento Patrocinato AISLeC \nIAWC mette a disposizione dei Soci AISLeC la possibilità di iscrizione privilegiata a: ITALIAN ACADEMY WOUND CARE corsi Basic e Advanced del XIV Anno Accademico in programma presso il Polo Universitario di Asti. \nIl numero di posti offerti ai Soci AISLeC in convenzione è limitato: a seguito della valutazione delle candidature ricevute\, sarà quindi fornito un riscontro con il relativo esito. \n• 2 iscrizioni per il Corso IAWC Basic al prezzo di 1.500 € + iva 22% (prezzo riservato solo per la XIV edizione) \n• 2 iscrizioni per il Corso IAWC Advanced al prezzo di 2.000 € + iva 22% (prezzo riservato solo per la XIV edizione) (obbligatorio aver frequentato il corso Basic) \n• 2 iscrizioni corso biennale (Basic+Advanced) al prezzo di 3.500 € + iva 22% (con rateizzazione) \nPer maggiori informazioni clicca qui
URL:https://aislec.it/event/corso-biennale-iawc-2025-2027-xiv-anno-accademico/
CATEGORIES:Agenda,Altri eventi patrocinati
ATTACH;FMTTYPE=image/jpeg:https://aislec.it/wp-content/uploads/2025/07/IAWC.jpg
END:VEVENT
END:VCALENDAR