BEGIN:VCALENDAR
VERSION:2.0
PRODID:-//AISLeC - ECPv6.15.17.1//NONSGML v1.0//EN
CALSCALE:GREGORIAN
METHOD:PUBLISH
X-WR-CALNAME:AISLeC
X-ORIGINAL-URL:https://aislec.it
X-WR-CALDESC:Eventi per AISLeC
REFRESH-INTERVAL;VALUE=DURATION:PT1H
X-Robots-Tag:noindex
X-PUBLISHED-TTL:PT1H
BEGIN:VTIMEZONE
TZID:Europe/Paris
BEGIN:DAYLIGHT
TZOFFSETFROM:+0100
TZOFFSETTO:+0200
TZNAME:CEST
DTSTART:20240331T010000
END:DAYLIGHT
BEGIN:STANDARD
TZOFFSETFROM:+0200
TZOFFSETTO:+0100
TZNAME:CET
DTSTART:20241027T010000
END:STANDARD
BEGIN:DAYLIGHT
TZOFFSETFROM:+0100
TZOFFSETTO:+0200
TZNAME:CEST
DTSTART:20250330T010000
END:DAYLIGHT
BEGIN:STANDARD
TZOFFSETFROM:+0200
TZOFFSETTO:+0100
TZNAME:CET
DTSTART:20251026T010000
END:STANDARD
BEGIN:DAYLIGHT
TZOFFSETFROM:+0100
TZOFFSETTO:+0200
TZNAME:CEST
DTSTART:20260329T010000
END:DAYLIGHT
BEGIN:STANDARD
TZOFFSETFROM:+0200
TZOFFSETTO:+0100
TZNAME:CET
DTSTART:20261025T010000
END:STANDARD
END:VTIMEZONE
BEGIN:VEVENT
DTSTART;TZID=Europe/Paris:20251122T080000
DTEND;TZID=Europe/Paris:20251122T183000
DTSTAMP:20260421T030945
CREATED:20250827T110539Z
LAST-MODIFIED:20250827T145622Z
UID:6692-1763798400-1763836200@aislec.it
SUMMARY:Infezioni Correlate all’assistenza: perché parlarne ancora? Esperienze e strumenti a confronto
DESCRIPTION:Napoli 22 Novembre 2025 \nEvento Patrocinato AISLeC \nProgramma \nBROCHURE NAPOLI CON PROGRAMMA
URL:https://aislec.it/event/infezioni-correlate-allassistenza-perche-parlarne-ancora-esperienze-e-strumenti-a-confronto/
CATEGORIES:Agenda,Altri eventi patrocinati
ATTACH;FMTTYPE=image/png:https://aislec.it/wp-content/uploads/2025/08/Screenshot-2025-08-27-130433.png
END:VEVENT
END:VCALENDAR